BEGIN:VCALENDAR
VERSION:2.0
PRODID:-//El Paso Holocaust Musem - ECPv6.15.20//NONSGML v1.0//EN
CALSCALE:GREGORIAN
METHOD:PUBLISH
X-WR-CALNAME:El Paso Holocaust Musem
X-ORIGINAL-URL:https://elpasoholocaustmuseum.org
X-WR-CALDESC:Events for El Paso Holocaust Musem
REFRESH-INTERVAL;VALUE=DURATION:PT1H
X-Robots-Tag:noindex
X-PUBLISHED-TTL:PT1H
BEGIN:VTIMEZONE
TZID:America/Denver
BEGIN:DAYLIGHT
TZOFFSETFROM:-0700
TZOFFSETTO:-0600
TZNAME:MDT
DTSTART:20240310T090000
END:DAYLIGHT
BEGIN:STANDARD
TZOFFSETFROM:-0600
TZOFFSETTO:-0700
TZNAME:MST
DTSTART:20241103T080000
END:STANDARD
BEGIN:DAYLIGHT
TZOFFSETFROM:-0700
TZOFFSETTO:-0600
TZNAME:MDT
DTSTART:20250309T090000
END:DAYLIGHT
BEGIN:STANDARD
TZOFFSETFROM:-0600
TZOFFSETTO:-0700
TZNAME:MST
DTSTART:20251102T080000
END:STANDARD
BEGIN:DAYLIGHT
TZOFFSETFROM:-0700
TZOFFSETTO:-0600
TZNAME:MDT
DTSTART:20260308T090000
END:DAYLIGHT
BEGIN:STANDARD
TZOFFSETFROM:-0600
TZOFFSETTO:-0700
TZNAME:MST
DTSTART:20261101T080000
END:STANDARD
END:VTIMEZONE
BEGIN:VEVENT
DTSTART;TZID=America/Denver:20250816T100000
DTEND;TZID=America/Denver:20250816T140000
DTSTAMP:20260419T091204
CREATED:20250724T172345Z
LAST-MODIFIED:20250724T172345Z
UID:46172-1755338400-1755352800@elpasoholocaustmuseum.org
SUMMARY:Tour de Tolerance Packet Pick Up Day 2
DESCRIPTION:Please join us Saturday\, August 16th  from 10:00 AM – 2:00 PM for packet pick up for our annual Tour de Tolerance bike ride. All materials and instructions will be given to cyclists and runners on this day. If there are any questions\, please reach out to the museum. \nhttps://www.givesignup.org/Race/NM/SantaTeresa/TourdeToleranceTest
URL:https://elpasoholocaustmuseum.org/event/tour-de-tolerance-packet-pick-up-day-2/
END:VEVENT
BEGIN:VEVENT
DTSTART;VALUE=DATE:20250816
DTEND;VALUE=DATE:20250817
DTSTAMP:20260419T091204
CREATED:20250814T192624Z
LAST-MODIFIED:20250814T192624Z
UID:46185-1755302400-1755388799@elpasoholocaustmuseum.org
SUMMARY:EPHM Closing Early
DESCRIPTION:El Paso Holocaust Museum will be stopping admissions at 2:00 PM and will be closing by 2:30 PM on Saturday\, August 16th for an offsite fundraiser. We apologize for any inconvenience and appreicate your understanding.
URL:https://elpasoholocaustmuseum.org/event/ephm-closing-early/
END:VEVENT
BEGIN:VEVENT
DTSTART;TZID=America/Denver:20250815T110000
DTEND;TZID=America/Denver:20250815T160000
DTSTAMP:20260419T091204
CREATED:20250724T172216Z
LAST-MODIFIED:20250724T172216Z
UID:46170-1755255600-1755273600@elpasoholocaustmuseum.org
SUMMARY:Tour de Tolerance Packet Pick Up Day 1
DESCRIPTION:Please join us Friday August 15th from 11:00 AM – 4:00 PM for packet pick up for our annual Tour de Tolerance bike ride. All materials and instructions will be given to cyclists and runners on this day. If there are any questions\, please reach out to the museum.
URL:https://elpasoholocaustmuseum.org/event/tour-de-tolerance-packet-pick-up-day-1/
END:VEVENT
BEGIN:VEVENT
DTSTART;TZID=America/Denver:20250812T090000
DTEND;TZID=America/Denver:20250816T170000
DTSTAMP:20260419T091204
CREATED:20250724T171204Z
LAST-MODIFIED:20250724T171204Z
UID:46164-1754989200-1755363600@elpasoholocaustmuseum.org
SUMMARY:Dimensions in Testimony: Lea Novera
DESCRIPTION:Join us Tuesdays-Fridays & Saturdays for a special showing of our brand new permanent exhibit: \nDimensions in Testimony \nVisitors can interact with a Holocaust survivor or a Holocaust liberator through pre-recorded testimonies. \nShowtimes will be: \nTuesday-Friday at 10:00 AM & 1:00 PM \nSaturdays at 2:00 PM & 3:00 PM  \nTuesday\, August 12th- Saturday August 16th:  Lea Novera\, Spanish Testimony\, Auschwitz Survivor
URL:https://elpasoholocaustmuseum.org/event/dimensions-in-testimony-lea-novera-4/
END:VEVENT
BEGIN:VEVENT
DTSTART;TZID=America/Denver:20250805T090000
DTEND;TZID=America/Denver:20250809T170000
DTSTAMP:20260419T091204
CREATED:20250724T170911Z
LAST-MODIFIED:20250724T170911Z
UID:46160-1754384400-1754758800@elpasoholocaustmuseum.org
SUMMARY:Dimensions in Testimony: Alan Moskin
DESCRIPTION:oin us Tuesday-Friday & Saturdays for a special showing of our brand new permanent exhibit: \nDimensions in Testimony \nVisitors can interact with a Holocaust survivor(s) or a Holocaust liberator through pre-recorded testimonies. \nShowtimes will be: \nTuesday- Friday at 10:00 AM & 1:00 PM \nSaturdays at 2:00 PM & 3:00 PM \n  \nTuesday August 5th- Saturday August 9th : \nAlan Moskin\, Holocaust Liberator
URL:https://elpasoholocaustmuseum.org/event/dimensions-in-testimony-alan-moskin-4/
END:VEVENT
BEGIN:VEVENT
DTSTART;TZID=America/Denver:20250801T090000
DTEND;TZID=America/Denver:20250802T170000
DTSTAMP:20260419T091204
CREATED:20250724T170227Z
LAST-MODIFIED:20250724T170227Z
UID:46158-1754038800-1754154000@elpasoholocaustmuseum.org
SUMMARY:Dimensions in Testimony: Pinchas Gutter
DESCRIPTION:Join us Tuesdays-Fridays & Saturdays for a special showing of our brand new permanent exhibit:  \nDimensions in Testimony  \nVisitors can interact with Holocaust survivor or Holocaust liberator through pre-recorded testimonies. \nShow times will be: \nTuesday-Friday at 10:00 AM & 1:00 PM \nSaturdays at 2:00 PM &  3:00 PM \nFriday August 1st & Saturday August 2nd: Pinchas Gutter\, Holocaust Survivor \n 
URL:https://elpasoholocaustmuseum.org/event/dimensions-in-testimony-pinchas-gutter-5/
END:VEVENT
BEGIN:VEVENT
DTSTART;TZID=America/Denver:20250729T090000
DTEND;TZID=America/Denver:20250731T170000
DTSTAMP:20260419T091204
CREATED:20250610T195445Z
LAST-MODIFIED:20250610T214838Z
UID:46134-1753779600-1753981200@elpasoholocaustmuseum.org
SUMMARY:Dimensions in Testimony: Pinchas Gutter
DESCRIPTION:Join us Tuesdays-Fridays & Saturdays for a special showing of our brand new permanent exhibit:  \nDimensions in Testimony  \nVisitors can interact with Holocaust survivor or Holocaust liberator through pre-recorded testimonies. \nShow times will be: \nTuesday-Friday at 10:00 AM & 1:00 PM \nSaturdays at 2:00 PM &  3:00 PM \nJuly 29th-July 31st: \nPinchas Gutter\, Holocaust Survivor
URL:https://elpasoholocaustmuseum.org/event/dimensions-in-testimony-pinchas-gutter-4/
END:VEVENT
BEGIN:VEVENT
DTSTART;TZID=America/Denver:20250722T090000
DTEND;TZID=America/Denver:20250726T170000
DTSTAMP:20260419T091204
CREATED:20250610T193600Z
LAST-MODIFIED:20250610T194051Z
UID:46129-1753174800-1753549200@elpasoholocaustmuseum.org
SUMMARY:Dimensions in Testimony: Eva Mozes Kor
DESCRIPTION:Join us Tuesdays-Fridays & Saturdays for a special showing of our brand new permanent exhibit: Dimensions in Testimony  \nVisitors can interact with Holocaust survivor or Holocaust liberator through pre-recorded testimonies. \nShow times will be: \nTuesday-Friday at 10:00 AM & 1:00 PM \nSaturdays at 2:00 PM &  3:00 PM \nJuly 22nd-July 26th: Eva Mozes Kor\, Auschwitz survivor
URL:https://elpasoholocaustmuseum.org/event/dimensions-in-testimony-edith-maniker-3/
END:VEVENT
BEGIN:VEVENT
DTSTART;VALUE=DATE:20250722
DTEND;VALUE=DATE:20250723
DTSTAMP:20260419T091204
CREATED:20250718T185834Z
LAST-MODIFIED:20250718T185834Z
UID:46154-1753142400-1753228799@elpasoholocaustmuseum.org
SUMMARY:Plaza Film Festival Closing
DESCRIPTION:EPHM will be closing early on Tuesday\, July 22nd by 2:00 PM for the Plaza Film Festival. We apologize for any confusion and appreicate your understanding! We will reopen on Wednesday\, July 23rd from 9 AM – 5 PM. \nhttps://elpasoholocaustmuseum.org/wp-content/uploads/2025/07/July-17th-until-July-27th.mp4\n 
URL:https://elpasoholocaustmuseum.org/event/plaza-film-festival-closing/
END:VEVENT
BEGIN:VEVENT
DTSTART;TZID=America/Denver:20250715T090000
DTEND;TZID=America/Denver:20250719T170000
DTSTAMP:20260419T091204
CREATED:20250617T193636Z
LAST-MODIFIED:20250617T193636Z
UID:46136-1752570000-1752944400@elpasoholocaustmuseum.org
SUMMARY:Dimensions in Testimony: Edith Maniker
DESCRIPTION:Join us Tuesdays-Fridays & Saturdays for a special showing of our brand new permanent exhibit: Dimensions in Testimony  \nVisitors can interact with Holocaust survivor or Holocaust liberator through pre-recorded testimonies. \nShow times will be: \nTuesday-Friday at 10:00 AM & 1:00 PM \nSaturdays at 2:00 PM &  3:00 PM \nJuly 15th-July 19th: Edith Maniker\, Kindertransport Survivor
URL:https://elpasoholocaustmuseum.org/event/dimensions-in-testimony-edith-maniker-4/
END:VEVENT
BEGIN:VEVENT
DTSTART;TZID=America/Denver:20250708T090000
DTEND;TZID=America/Denver:20250712T170000
DTSTAMP:20260419T091204
CREATED:20250610T193019Z
LAST-MODIFIED:20250610T193019Z
UID:46125-1751965200-1752339600@elpasoholocaustmuseum.org
SUMMARY:Dimensions in Testimony: Lea Novera
DESCRIPTION:Join us Tuesdays-Fridays & Saturdays for a special showing of our brand new permanent exhibit: \nDimensions in Testimony \nVisitors can interact with a Holocaust survivor or a Holocaust liberator through pre-recorded testimonies. \nShowtimes will be: \nTuesday-Friday at 10:00 AM & 1:00 PM \nSaturdays at 2:00 PM & 3:00 PM  \nJuly 8th-July 12th: Lea Novera\, Spanish Testimony\, Auschwitz Survivor
URL:https://elpasoholocaustmuseum.org/event/dimensions-in-testimony-lea-novera-3/
END:VEVENT
BEGIN:VEVENT
DTSTART;TZID=America/Denver:20250707T090000
DTEND;TZID=America/Denver:20250711T120000
DTSTAMP:20260419T091204
CREATED:20250521T172135Z
LAST-MODIFIED:20250529T190416Z
UID:46102-1751878800-1752235200@elpasoholocaustmuseum.org
SUMMARY:EPHM Summer Camp
DESCRIPTION:Hello!\n\nWe are thrilled to announce that our annual EPHM Summer Camp is right around the corner. Come join us for a week of fun and learning about kindness\, acceptance and how to be a hero in your community!\n\nOur Summer Camp will be taking place from : July 7th – July 11th from 9:00 AM -12:00 PM.\n\n\nThis year’s theme is titled: Turn The Page: Be The Change\n\nCampers will dive into powerful stories\, fun hands-on activities and meaningful conversations- exploring:\n\nPersonal growth\nStanding up to bias\nKindness & Acceptance\nBecoming changemakers through their own stories\n\n  \n\nOur camp provides a camp T-shirt\, snacks\, supplies\, pizza party and much more!\n\nRegistration fee (per child) – $50\nRegistration for sibling(s)/ Museum Members- $40\n\nScholarships are available upon request.\n\nFor any further questions\, please contact our Education Coordinator\,\nMaryLou Rocha at 915.351.0048 or by email at MaryLou@elpasoholocaustmuseum.org.
URL:https://elpasoholocaustmuseum.org/event/ephm-summer-camp/
LOCATION:El Paso Holocaust Museum & Study Center\, 715 N. Oregon St.\, El Paso\, Texas\, 79902\, United States
END:VEVENT
BEGIN:VEVENT
DTSTART;VALUE=DATE:20250704
DTEND;VALUE=DATE:20250705
DTSTAMP:20260419T091204
CREATED:20250610T191741Z
LAST-MODIFIED:20250610T191741Z
UID:46119-1751587200-1751673599@elpasoholocaustmuseum.org
SUMMARY:Closed for 4th of July
DESCRIPTION:EPHM will be closed Friday\, July 4th\, 2025. We will resume regular hours on Saturday\, July 5th from 1 PM – 5 PM. \nThank you for your understanding
URL:https://elpasoholocaustmuseum.org/event/closed-for-4th-of-july/
END:VEVENT
BEGIN:VEVENT
DTSTART;TZID=America/Denver:20250701T090000
DTEND;TZID=America/Denver:20250705T170000
DTSTAMP:20260419T091204
CREATED:20250610T192446Z
LAST-MODIFIED:20250610T192446Z
UID:46121-1751360400-1751734800@elpasoholocaustmuseum.org
SUMMARY:Dimensions in Testimony: Alan Moskin
DESCRIPTION:Join us Tuesday-Friday & Saturdays for a special showing of our brand new permanent exhibit: \nDimensions in Testimony \nVisitors can interact with a Holocaust survivor(s) or a Holocaust liberator through pre-recorded testimonies. \nShowtimes will be: \nTuesday- Friday at 10:00 AM & 1:00 PM \nSaturdays at 2:00 PM & 3:00 PM \n  \nTuesday July 1st- July 5th : \nAlan Moskin\, Holocaust Liberator
URL:https://elpasoholocaustmuseum.org/event/dimensions-in-testimony-alan-moskin-3/
END:VEVENT
BEGIN:VEVENT
DTSTART;TZID=America/Denver:20250624T090000
DTEND;TZID=America/Denver:20250628T170000
DTSTAMP:20260419T091204
CREATED:20250520T213525Z
LAST-MODIFIED:20250520T213526Z
UID:46098-1750755600-1751130000@elpasoholocaustmuseum.org
SUMMARY:Dimensions in Testimony: Pinchas Gutter
DESCRIPTION:Join us Tuesdays-Fridays & Saturdays for a special showing of our brand new permanent exhibit: Dimensions in Testimony  \nVisitors can interact with Holocaust survivor or Holocaust liberator through pre-recorded testimonies. \nShow times will be: \nTuesday-Friday at 10:00 AM & 1:00 PM \nSaturdays at 2:00 PM &  3:00 PM \nJune 24th- June 28th- Pinchas Gutter\, Holocaust Survivor  \n 
URL:https://elpasoholocaustmuseum.org/event/dimensions-in-testimony-pinchas-gutter-3/
END:VEVENT
BEGIN:VEVENT
DTSTART;TZID=America/Denver:20250617T090000
DTEND;TZID=America/Denver:20250621T170000
DTSTAMP:20260419T091204
CREATED:20250520T212908Z
LAST-MODIFIED:20250520T212909Z
UID:46094-1750150800-1750525200@elpasoholocaustmuseum.org
SUMMARY:Dimensions in Testimony: Eva Mozes Kor
DESCRIPTION:Join us Tuesdays-Fridays & Saturdays for a special showing of our brand new permanent exhibit: Dimensions in Testimony  \nVisitors can interact with Holocaust survivor or Holocaust liberator through pre-recorded testimonies. \nShow times will be: \nTuesday-Friday at 10:00 AM & 1:00 PM \nSaturdays at 2:00 PM &  3:00 PM \nJune 17th-June 21st: Eva Mozes Kor\, Auschwitz Survivor 
URL:https://elpasoholocaustmuseum.org/event/dimensions-in-testimony-eva-mozes-kor-2/
END:VEVENT
BEGIN:VEVENT
DTSTART;TZID=America/Denver:20250610T090000
DTEND;TZID=America/Denver:20250614T170000
DTSTAMP:20260419T091204
CREATED:20250520T212406Z
LAST-MODIFIED:20250520T212406Z
UID:46092-1749546000-1749920400@elpasoholocaustmuseum.org
SUMMARY:Dimensions in Testimony: Edith Maniker
DESCRIPTION:Join us Tuesdays-Fridays & Saturdays for a special showing of our brand new permanent exhibit: Dimensions in Testimony  \nVisitors can interact with Holocaust survivor or Holocaust liberator through pre-recorded testimonies. \nShow times will be: \nTuesday-Friday at 10:00 AM & 1:00 PM \nSaturdays at 2:00 PM &  3:00 PM \nJune 10th-June 14th
URL:https://elpasoholocaustmuseum.org/event/dimensions-in-testimony-edith-maniker-2/
END:VEVENT
BEGIN:VEVENT
DTSTART;TZID=America/Denver:20250603T090000
DTEND;TZID=America/Denver:20250607T170000
DTSTAMP:20260419T091204
CREATED:20250520T204457Z
LAST-MODIFIED:20250520T204457Z
UID:46078-1748941200-1749315600@elpasoholocaustmuseum.org
SUMMARY:Dimensions in Testimony: Lea Novera
DESCRIPTION:Join us Tuesdays-Fridays & Saturdays for a special showing of our brand new permanent exhibit: Dimensions in Testimony  \nVisitors can interact with Holocaust survivor or Holocaust liberator through pre-recorded testimonies. \nShow times will be: \nTuesday-Friday at 10:00 AM & 1:00 PM \nSaturdays at 2:00 PM &  3:00 PM \nJune 3rd-June 7th : Lea Novera\, Spanish Testimony\, Auschwitz Survivor
URL:https://elpasoholocaustmuseum.org/event/dimensions-in-testimony-lea-novera-2/
END:VEVENT
BEGIN:VEVENT
DTSTART;VALUE=DATE:20250520
DTEND;VALUE=DATE:20250525
DTSTAMP:20260419T091204
CREATED:20250429T190339Z
LAST-MODIFIED:20250429T190339Z
UID:46054-1747699200-1748131199@elpasoholocaustmuseum.org
SUMMARY:Dimensions in Testimony: Pinchas Gutter
DESCRIPTION:Join us Tuesdays-Fridays & Saturdays for a special showing of our brand new permanent exhibit: Dimensions in Testimony  \nVisitors can interact with Holocaust survivor or Holocaust liberator through pre-recorded testimonies. \nShow times will be: \nTuesday-Friday at 10:00 AM & 1:00 PM \nSaturdays at 3:00 PM \nMay 20th-24th: Pinchas Gutter \nCopy of Maroon Professional Business Page Border (11 x 17 in) (Real Estate Flyer) (9)
URL:https://elpasoholocaustmuseum.org/event/dimensions-in-testimony-pinchas-gutter-2/
END:VEVENT
BEGIN:VEVENT
DTSTART;VALUE=DATE:20250513
DTEND;VALUE=DATE:20250518
DTSTAMP:20260419T091204
CREATED:20250429T185735Z
LAST-MODIFIED:20250429T185735Z
UID:46052-1747094400-1747526399@elpasoholocaustmuseum.org
SUMMARY:Dimenisons in Testimony: Eva Mozes Kor
DESCRIPTION:Join us Tuesdays-Fridays & Saturdays for a special showing of our brand new permanent exhibit: Dimensions in Testimony  \nVisitors can interact with Holocaust survivor or Holocaust liberator through pre-recorded testimonies. \nShow times will be: \nTuesday-Friday at 10:00 AM & 1:00 PM \nSaturdays at 3:00 PM \nCopy of Maroon Professional Business Page Border (11 x 17 in) (Real Estate Flyer) (8)
URL:https://elpasoholocaustmuseum.org/event/dimenisons-in-testimony-eva-mozes-kor/
END:VEVENT
BEGIN:VEVENT
DTSTART;TZID=America/Denver:20250506T080000
DTEND;TZID=America/Denver:20250510T170000
DTSTAMP:20260419T091204
CREATED:20250423T172011Z
LAST-MODIFIED:20250423T172011Z
UID:46041-1746518400-1746896400@elpasoholocaustmuseum.org
SUMMARY:Dimensions in Testimony: Edith Maniker
DESCRIPTION:Join us Tuesdays-Fridays & Saturdays for a special showing of our brand new permanent exhibit: Dimensions in Testimony  \nVisitors can interact with Holocaust survivor or Holocaust liberator through pre-recorded testimonies. \nShow times will be: \nTuesday-Friday at 10:00 AM & 1:00 PM \nSaturdays at 3:00 PM \nMay 6th -10th- Kindertransport Survivor- Edith Maniker \nCopy of Maroon Professional Business Page Border (11 x 17 in) (Real Estate Flyer) (13)
URL:https://elpasoholocaustmuseum.org/event/dimensions-in-testimony-edith-maniker/
END:VEVENT
BEGIN:VEVENT
DTSTART;TZID=America/Denver:20250429T090000
DTEND;TZID=America/Denver:20250503T170000
DTSTAMP:20260419T091204
CREATED:20250403T215209Z
LAST-MODIFIED:20250403T215209Z
UID:46033-1745917200-1746291600@elpasoholocaustmuseum.org
SUMMARY:Dimensions in Testimony: Lea Novera
DESCRIPTION:Join us Tuesdays-Fridays & Saturdays for a special showing of our brand new permanent exhibit: Dimensions in Testimony  \nVisitors can interact with Holocaust survivor or Holocaust liberator through pre-recorded testimonies. \nShow times will be: \nTuesday-Friday at 10:00 AM & 1:00 PM \nSaturdays at 3:00 PM \nApril 29th-May 3rd: Lea Novera\, Spanish Testimony\, Auschwitz Survivor
URL:https://elpasoholocaustmuseum.org/event/dimensions-in-testimony-lea-novera/
ATTACH;FMTTYPE=application/pdf:https://elpasoholocaustmuseum.org/wp-content/uploads/2025/04/Copy-of-Maroon-Professional-Business-Page-Border-11-x-17-in-Real-Estate-Flyer-12-2.pdf
END:VEVENT
BEGIN:VEVENT
DTSTART;TZID=America/Denver:20250429T080000
DTEND;TZID=America/Denver:20250429T170000
DTSTAMP:20260419T091204
CREATED:20250429T190616Z
LAST-MODIFIED:20250429T190616Z
UID:46061-1745913600-1745946000@elpasoholocaustmuseum.org
SUMMARY:Dimensions in Testimony: Alan Moskin
DESCRIPTION:Join us Tuesdays-Fridays & Saturdays for a special showing of our brand new permanent exhibit: Dimensions in Testimony  \nVisitors can interact with Holocaust survivor or Holocaust liberator through pre-recorded testimonies. \nShow times will be: \nTuesday-Friday at 10:00 AM & 1:00 PM \nSaturdays at 3:00 PM \nMay 27th-May 31st: Alan Moskin\, Holocaust Liberator \nAlan Moskin DIT
URL:https://elpasoholocaustmuseum.org/event/dimensions-in-testimony-alan-moskin-2/
END:VEVENT
BEGIN:VEVENT
DTSTART;TZID=America/Denver:20250424T180000
DTEND;TZID=America/Denver:20250424T190000
DTSTAMP:20260419T091204
CREATED:20250403T215820Z
LAST-MODIFIED:20250403T215820Z
UID:46037-1745517600-1745521200@elpasoholocaustmuseum.org
SUMMARY:Echoes of Defiance:  Yom HaShoah Commemoration
DESCRIPTION:Join EPHM at Temple Mount Sinai on Thursday\, April 24th\, 2025 at 6 PM for the Holocaust Days of Remembrance\, Yom HaShoah. This ceremony is to commemorate those who were murdered in the Holocaust\, local survivors and their families.
URL:https://elpasoholocaustmuseum.org/event/echoes-of-defiance-yom-hashoah-commemoration/
ATTACH;FMTTYPE=application/pdf:https://elpasoholocaustmuseum.org/wp-content/uploads/2025/04/El-Paso-Holocaust-Museum-Study-Center-presents.pdf
END:VEVENT
BEGIN:VEVENT
DTSTART;TZID=America/Denver:20250422T090000
DTEND;TZID=America/Denver:20250426T170000
DTSTAMP:20260419T091204
CREATED:20250403T213816Z
LAST-MODIFIED:20250403T213816Z
UID:46027-1745312400-1745686800@elpasoholocaustmuseum.org
SUMMARY:Dimensions in Testimony: Alan Moskin
DESCRIPTION:Join us Tuesdays-Fridays & Saturdays for a special showing of our brand new permanent exhibit: Dimensions in Testimony  \nVisitors can interact with Holocaust survivor or Holocaust liberator through pre-recorded testimonies. \nShow times will be: \nTuesday-Friday at 10:00 AM & 1:00 PM \nSaturdays at 3:00 PM \nApril 22nd- April 26th: Alan Moskin\, Holocaust Liberator
URL:https://elpasoholocaustmuseum.org/event/dimensions-in-testimony-alan-moskin/
ATTACH;FMTTYPE=application/pdf:https://elpasoholocaustmuseum.org/wp-content/uploads/2025/04/Copy-of-Maroon-Professional-Business-Page-Border-11-x-17-in-Real-Estate-Flyer-15.pdf
END:VEVENT
BEGIN:VEVENT
DTSTART;TZID=America/Denver:20250415T090000
DTEND;TZID=America/Denver:20250419T170000
DTSTAMP:20260419T091204
CREATED:20250403T213418Z
LAST-MODIFIED:20250403T213418Z
UID:46011-1744707600-1745082000@elpasoholocaustmuseum.org
SUMMARY:Dimensions in Testimony: Pinchas Gutter
DESCRIPTION:Join us Tuesdays-Fridays & Saturdays for a special showing of our brand new permanent exhibit: Dimensions in Testimony  \nVisitors can interact with Holocaust survivor or Holocaust liberator through pre-recorded testimonies. \nShow times will be: \nTuesday-Friday at 10:00 AM & 1:00 PM \nSaturdays at 3:00 PM \nApril 15th- April 19th: Pinchas Gutter\, Holocaust Survivor
URL:https://elpasoholocaustmuseum.org/event/dimensions-in-testimony-pinchas-gutter/
ATTACH;FMTTYPE=application/pdf:https://elpasoholocaustmuseum.org/wp-content/uploads/2025/04/Copy-of-Maroon-Professional-Business-Page-Border-11-x-17-in-Real-Estate-Flyer-14.pdf
END:VEVENT
BEGIN:VEVENT
DTSTART;TZID=America/Denver:20250408T090000
DTEND;TZID=America/Denver:20250412T170000
DTSTAMP:20260419T091204
CREATED:20250403T212255Z
LAST-MODIFIED:20250403T212255Z
UID:46004-1744102800-1744477200@elpasoholocaustmuseum.org
SUMMARY:Dimensions in Testimony: Eva Mozes Kor
DESCRIPTION:Join us Tuesdays-Fridays & Saturdays for a special showing of our brand new permanent exhibit: Dimensions in Testimony  \nVisitors can interact with Holocaust survivor or Holocaust liberator through pre-recorded testimonies. \nShow times will be: \nTuesday-Friday at 10:00 AM & 1:00 PM \nSaturdays at 3:00 PM \nApril 8th-12th: Eva Mozes Kor\, Auschwitz Survivor
URL:https://elpasoholocaustmuseum.org/event/dimensions-in-testimony-eva-mozes-kor/
ATTACH;FMTTYPE=application/pdf:https://elpasoholocaustmuseum.org/wp-content/uploads/2025/04/Copy-of-Maroon-Professional-Business-Page-Border-11-x-17-in-Real-Estate-Flyer-7.pdf
END:VEVENT
BEGIN:VEVENT
DTSTART;TZID=America/Denver:20250406T150000
DTEND;TZID=America/Denver:20250406T180000
DTSTAMP:20260419T091204
CREATED:20250306T185333Z
LAST-MODIFIED:20250306T204806Z
UID:45966-1743951600-1743962400@elpasoholocaustmuseum.org
SUMMARY:FORE! UNITee Topgolf Fundaiser
DESCRIPTION:EPHM’s 6th Annual FORE! UNITee Event!\nJoin us for an afternoon of golf games\, food\, drinks\, and fun competition for family and friends of all ages! \nSunday\, April 6th – 3pm to 6pm  \nTopgolf El Paso \nBuy a bay today for just $500 for you and five of your friends\, family members\, or coworkers to enjoy a fun afternoon of friendly competition\, great food\, and festive atmosphere! \nREGISTER
URL:https://elpasoholocaustmuseum.org/event/fore-unitee-topgolf-fundaiser/
LOCATION:Topgolf El Paso\, 365 Vin Rambla\, El Pas\, TX\, 79912\, United States
ORGANIZER;CN="El Paso Holocaust Museum":MAILTO:info@elpasoholocaustmuseum.org
END:VEVENT
BEGIN:VEVENT
DTSTART;TZID=America/Denver:20250401T090000
DTEND;TZID=America/Denver:20250405T170000
DTSTAMP:20260419T091204
CREATED:20250403T194414Z
LAST-MODIFIED:20250403T194414Z
UID:46000-1743498000-1743872400@elpasoholocaustmuseum.org
SUMMARY:Dimensions in Testimony Exhibition- Edith Maniker April 1st-April 5th
DESCRIPTION:Join us Tuesdays-Fridays & Saturdays for a special showing of our brand new permanent exhibit: Dimensions in Testimony  \nVisitors can interact with Holocaust survivor or Holocaust liberator through pre-recorded testimonies. \nShow times will be: \nTuesday-Friday at 10:00 AM & 1:00 PM \nSaturdays at 3:00 PM \nApril 1st-April 5th: Edith Maniker\, Kindertransport Survivor 
URL:https://elpasoholocaustmuseum.org/event/dimensions-in-testimony-exhibition-edith-maniker-april-1st-april-5th/
LOCATION:El Paso Holocaust Museum & Study Center\, 715 N. Oregon St.\, El Paso\, Texas\, 79902\, United States
ATTACH;FMTTYPE=application/pdf:https://elpasoholocaustmuseum.org/wp-content/uploads/2025/04/Copy-of-Maroon-Professional-Business-Page-Border-11-x-17-in-Real-Estate-Flyer-13.pdf
END:VEVENT
BEGIN:VEVENT
DTSTART;TZID=America/Denver:20250306T180000
DTEND;TZID=America/Denver:20250306T193000
DTSTAMP:20260419T091204
CREATED:20250306T172923Z
LAST-MODIFIED:20250306T173721Z
UID:45960-1741284000-1741289400@elpasoholocaustmuseum.org
SUMMARY:All People Have Voice
DESCRIPTION:Join us on Thursday\, March 6th at 6pm for a presentation by Dr. Ezra Cappell!\nDr. Cappell will be joining us in person and will speak on Maus II: A Survivor’s Tale\, with a discussion on the role of memoirs in history and the dangers of antisemitism and racism.\nRegister today and receive a FREE copy of Maus II\, educational resources\, hands-on activities\, and an exclusive EPHM bookmark!
URL:https://elpasoholocaustmuseum.org/event/all-people-have-voice/
END:VEVENT
END:VCALENDAR