BEGIN:VCALENDAR
VERSION:2.0
PRODID:-//El Paso Holocaust Musem - ECPv6.15.20//NONSGML v1.0//EN
CALSCALE:GREGORIAN
METHOD:PUBLISH
X-WR-CALNAME:El Paso Holocaust Musem
X-ORIGINAL-URL:https://elpasoholocaustmuseum.org
X-WR-CALDESC:Events for El Paso Holocaust Musem
REFRESH-INTERVAL;VALUE=DURATION:PT1H
X-Robots-Tag:noindex
X-PUBLISHED-TTL:PT1H
BEGIN:VTIMEZONE
TZID:America/Denver
BEGIN:DAYLIGHT
TZOFFSETFROM:-0700
TZOFFSETTO:-0600
TZNAME:MDT
DTSTART:20150308T090000
END:DAYLIGHT
BEGIN:STANDARD
TZOFFSETFROM:-0600
TZOFFSETTO:-0700
TZNAME:MST
DTSTART:20151101T080000
END:STANDARD
BEGIN:DAYLIGHT
TZOFFSETFROM:-0700
TZOFFSETTO:-0600
TZNAME:MDT
DTSTART:20160313T090000
END:DAYLIGHT
BEGIN:STANDARD
TZOFFSETFROM:-0600
TZOFFSETTO:-0700
TZNAME:MST
DTSTART:20161106T080000
END:STANDARD
BEGIN:DAYLIGHT
TZOFFSETFROM:-0700
TZOFFSETTO:-0600
TZNAME:MDT
DTSTART:20170312T090000
END:DAYLIGHT
BEGIN:STANDARD
TZOFFSETFROM:-0600
TZOFFSETTO:-0700
TZNAME:MST
DTSTART:20171105T080000
END:STANDARD
BEGIN:DAYLIGHT
TZOFFSETFROM:-0700
TZOFFSETTO:-0600
TZNAME:MDT
DTSTART:20180311T090000
END:DAYLIGHT
BEGIN:STANDARD
TZOFFSETFROM:-0600
TZOFFSETTO:-0700
TZNAME:MST
DTSTART:20181104T080000
END:STANDARD
BEGIN:DAYLIGHT
TZOFFSETFROM:-0700
TZOFFSETTO:-0600
TZNAME:MDT
DTSTART:20190310T090000
END:DAYLIGHT
BEGIN:STANDARD
TZOFFSETFROM:-0600
TZOFFSETTO:-0700
TZNAME:MST
DTSTART:20191103T080000
END:STANDARD
BEGIN:DAYLIGHT
TZOFFSETFROM:-0700
TZOFFSETTO:-0600
TZNAME:MDT
DTSTART:20200308T090000
END:DAYLIGHT
BEGIN:STANDARD
TZOFFSETFROM:-0600
TZOFFSETTO:-0700
TZNAME:MST
DTSTART:20201101T080000
END:STANDARD
BEGIN:DAYLIGHT
TZOFFSETFROM:-0700
TZOFFSETTO:-0600
TZNAME:MDT
DTSTART:20210314T090000
END:DAYLIGHT
BEGIN:STANDARD
TZOFFSETFROM:-0600
TZOFFSETTO:-0700
TZNAME:MST
DTSTART:20211107T080000
END:STANDARD
BEGIN:DAYLIGHT
TZOFFSETFROM:-0700
TZOFFSETTO:-0600
TZNAME:MDT
DTSTART:20220313T090000
END:DAYLIGHT
BEGIN:STANDARD
TZOFFSETFROM:-0600
TZOFFSETTO:-0700
TZNAME:MST
DTSTART:20221106T080000
END:STANDARD
BEGIN:DAYLIGHT
TZOFFSETFROM:-0700
TZOFFSETTO:-0600
TZNAME:MDT
DTSTART:20230312T090000
END:DAYLIGHT
BEGIN:STANDARD
TZOFFSETFROM:-0600
TZOFFSETTO:-0700
TZNAME:MST
DTSTART:20231105T080000
END:STANDARD
BEGIN:DAYLIGHT
TZOFFSETFROM:-0700
TZOFFSETTO:-0600
TZNAME:MDT
DTSTART:20240310T090000
END:DAYLIGHT
BEGIN:STANDARD
TZOFFSETFROM:-0600
TZOFFSETTO:-0700
TZNAME:MST
DTSTART:20241103T080000
END:STANDARD
BEGIN:DAYLIGHT
TZOFFSETFROM:-0700
TZOFFSETTO:-0600
TZNAME:MDT
DTSTART:20250309T090000
END:DAYLIGHT
BEGIN:STANDARD
TZOFFSETFROM:-0600
TZOFFSETTO:-0700
TZNAME:MST
DTSTART:20251102T080000
END:STANDARD
BEGIN:DAYLIGHT
TZOFFSETFROM:-0700
TZOFFSETTO:-0600
TZNAME:MDT
DTSTART:20260308T090000
END:DAYLIGHT
BEGIN:STANDARD
TZOFFSETFROM:-0600
TZOFFSETTO:-0700
TZNAME:MST
DTSTART:20261101T080000
END:STANDARD
END:VTIMEZONE
BEGIN:VEVENT
DTSTART;TZID=America/Denver:20250429T090000
DTEND;TZID=America/Denver:20250503T170000
DTSTAMP:20260419T115310
CREATED:20250403T215209Z
LAST-MODIFIED:20250403T215209Z
UID:46033-1745917200-1746291600@elpasoholocaustmuseum.org
SUMMARY:Dimensions in Testimony: Lea Novera
DESCRIPTION:Join us Tuesdays-Fridays & Saturdays for a special showing of our brand new permanent exhibit: Dimensions in Testimony  \nVisitors can interact with Holocaust survivor or Holocaust liberator through pre-recorded testimonies. \nShow times will be: \nTuesday-Friday at 10:00 AM & 1:00 PM \nSaturdays at 3:00 PM \nApril 29th-May 3rd: Lea Novera\, Spanish Testimony\, Auschwitz Survivor
URL:https://elpasoholocaustmuseum.org/event/dimensions-in-testimony-lea-novera/
ATTACH;FMTTYPE=application/pdf:https://elpasoholocaustmuseum.org/wp-content/uploads/2025/04/Copy-of-Maroon-Professional-Business-Page-Border-11-x-17-in-Real-Estate-Flyer-12-2.pdf
END:VEVENT
BEGIN:VEVENT
DTSTART;TZID=America/Denver:20250429T080000
DTEND;TZID=America/Denver:20250429T170000
DTSTAMP:20260419T115310
CREATED:20250429T190616Z
LAST-MODIFIED:20250429T190616Z
UID:46061-1745913600-1745946000@elpasoholocaustmuseum.org
SUMMARY:Dimensions in Testimony: Alan Moskin
DESCRIPTION:Join us Tuesdays-Fridays & Saturdays for a special showing of our brand new permanent exhibit: Dimensions in Testimony  \nVisitors can interact with Holocaust survivor or Holocaust liberator through pre-recorded testimonies. \nShow times will be: \nTuesday-Friday at 10:00 AM & 1:00 PM \nSaturdays at 3:00 PM \nMay 27th-May 31st: Alan Moskin\, Holocaust Liberator \nAlan Moskin DIT
URL:https://elpasoholocaustmuseum.org/event/dimensions-in-testimony-alan-moskin-2/
END:VEVENT
BEGIN:VEVENT
DTSTART;TZID=America/Denver:20250424T180000
DTEND;TZID=America/Denver:20250424T190000
DTSTAMP:20260419T115310
CREATED:20250403T215820Z
LAST-MODIFIED:20250403T215820Z
UID:46037-1745517600-1745521200@elpasoholocaustmuseum.org
SUMMARY:Echoes of Defiance:  Yom HaShoah Commemoration
DESCRIPTION:Join EPHM at Temple Mount Sinai on Thursday\, April 24th\, 2025 at 6 PM for the Holocaust Days of Remembrance\, Yom HaShoah. This ceremony is to commemorate those who were murdered in the Holocaust\, local survivors and their families.
URL:https://elpasoholocaustmuseum.org/event/echoes-of-defiance-yom-hashoah-commemoration/
ATTACH;FMTTYPE=application/pdf:https://elpasoholocaustmuseum.org/wp-content/uploads/2025/04/El-Paso-Holocaust-Museum-Study-Center-presents.pdf
END:VEVENT
BEGIN:VEVENT
DTSTART;TZID=America/Denver:20250422T090000
DTEND;TZID=America/Denver:20250426T170000
DTSTAMP:20260419T115310
CREATED:20250403T213816Z
LAST-MODIFIED:20250403T213816Z
UID:46027-1745312400-1745686800@elpasoholocaustmuseum.org
SUMMARY:Dimensions in Testimony: Alan Moskin
DESCRIPTION:Join us Tuesdays-Fridays & Saturdays for a special showing of our brand new permanent exhibit: Dimensions in Testimony  \nVisitors can interact with Holocaust survivor or Holocaust liberator through pre-recorded testimonies. \nShow times will be: \nTuesday-Friday at 10:00 AM & 1:00 PM \nSaturdays at 3:00 PM \nApril 22nd- April 26th: Alan Moskin\, Holocaust Liberator
URL:https://elpasoholocaustmuseum.org/event/dimensions-in-testimony-alan-moskin/
ATTACH;FMTTYPE=application/pdf:https://elpasoholocaustmuseum.org/wp-content/uploads/2025/04/Copy-of-Maroon-Professional-Business-Page-Border-11-x-17-in-Real-Estate-Flyer-15.pdf
END:VEVENT
BEGIN:VEVENT
DTSTART;TZID=America/Denver:20250415T090000
DTEND;TZID=America/Denver:20250419T170000
DTSTAMP:20260419T115310
CREATED:20250403T213418Z
LAST-MODIFIED:20250403T213418Z
UID:46011-1744707600-1745082000@elpasoholocaustmuseum.org
SUMMARY:Dimensions in Testimony: Pinchas Gutter
DESCRIPTION:Join us Tuesdays-Fridays & Saturdays for a special showing of our brand new permanent exhibit: Dimensions in Testimony  \nVisitors can interact with Holocaust survivor or Holocaust liberator through pre-recorded testimonies. \nShow times will be: \nTuesday-Friday at 10:00 AM & 1:00 PM \nSaturdays at 3:00 PM \nApril 15th- April 19th: Pinchas Gutter\, Holocaust Survivor
URL:https://elpasoholocaustmuseum.org/event/dimensions-in-testimony-pinchas-gutter/
ATTACH;FMTTYPE=application/pdf:https://elpasoholocaustmuseum.org/wp-content/uploads/2025/04/Copy-of-Maroon-Professional-Business-Page-Border-11-x-17-in-Real-Estate-Flyer-14.pdf
END:VEVENT
BEGIN:VEVENT
DTSTART;TZID=America/Denver:20250408T090000
DTEND;TZID=America/Denver:20250412T170000
DTSTAMP:20260419T115310
CREATED:20250403T212255Z
LAST-MODIFIED:20250403T212255Z
UID:46004-1744102800-1744477200@elpasoholocaustmuseum.org
SUMMARY:Dimensions in Testimony: Eva Mozes Kor
DESCRIPTION:Join us Tuesdays-Fridays & Saturdays for a special showing of our brand new permanent exhibit: Dimensions in Testimony  \nVisitors can interact with Holocaust survivor or Holocaust liberator through pre-recorded testimonies. \nShow times will be: \nTuesday-Friday at 10:00 AM & 1:00 PM \nSaturdays at 3:00 PM \nApril 8th-12th: Eva Mozes Kor\, Auschwitz Survivor
URL:https://elpasoholocaustmuseum.org/event/dimensions-in-testimony-eva-mozes-kor/
ATTACH;FMTTYPE=application/pdf:https://elpasoholocaustmuseum.org/wp-content/uploads/2025/04/Copy-of-Maroon-Professional-Business-Page-Border-11-x-17-in-Real-Estate-Flyer-7.pdf
END:VEVENT
BEGIN:VEVENT
DTSTART;TZID=America/Denver:20250406T150000
DTEND;TZID=America/Denver:20250406T180000
DTSTAMP:20260419T115310
CREATED:20250306T185333Z
LAST-MODIFIED:20250306T204806Z
UID:45966-1743951600-1743962400@elpasoholocaustmuseum.org
SUMMARY:FORE! UNITee Topgolf Fundaiser
DESCRIPTION:EPHM’s 6th Annual FORE! UNITee Event!\nJoin us for an afternoon of golf games\, food\, drinks\, and fun competition for family and friends of all ages! \nSunday\, April 6th – 3pm to 6pm  \nTopgolf El Paso \nBuy a bay today for just $500 for you and five of your friends\, family members\, or coworkers to enjoy a fun afternoon of friendly competition\, great food\, and festive atmosphere! \nREGISTER
URL:https://elpasoholocaustmuseum.org/event/fore-unitee-topgolf-fundaiser/
LOCATION:Topgolf El Paso\, 365 Vin Rambla\, El Pas\, TX\, 79912\, United States
ORGANIZER;CN="El Paso Holocaust Museum":MAILTO:info@elpasoholocaustmuseum.org
END:VEVENT
BEGIN:VEVENT
DTSTART;TZID=America/Denver:20250401T090000
DTEND;TZID=America/Denver:20250405T170000
DTSTAMP:20260419T115310
CREATED:20250403T194414Z
LAST-MODIFIED:20250403T194414Z
UID:46000-1743498000-1743872400@elpasoholocaustmuseum.org
SUMMARY:Dimensions in Testimony Exhibition- Edith Maniker April 1st-April 5th
DESCRIPTION:Join us Tuesdays-Fridays & Saturdays for a special showing of our brand new permanent exhibit: Dimensions in Testimony  \nVisitors can interact with Holocaust survivor or Holocaust liberator through pre-recorded testimonies. \nShow times will be: \nTuesday-Friday at 10:00 AM & 1:00 PM \nSaturdays at 3:00 PM \nApril 1st-April 5th: Edith Maniker\, Kindertransport Survivor 
URL:https://elpasoholocaustmuseum.org/event/dimensions-in-testimony-exhibition-edith-maniker-april-1st-april-5th/
LOCATION:El Paso Holocaust Museum & Study Center\, 715 N. Oregon St.\, El Paso\, Texas\, 79902\, United States
ATTACH;FMTTYPE=application/pdf:https://elpasoholocaustmuseum.org/wp-content/uploads/2025/04/Copy-of-Maroon-Professional-Business-Page-Border-11-x-17-in-Real-Estate-Flyer-13.pdf
END:VEVENT
BEGIN:VEVENT
DTSTART;TZID=America/Denver:20250306T180000
DTEND;TZID=America/Denver:20250306T193000
DTSTAMP:20260419T115310
CREATED:20250306T172923Z
LAST-MODIFIED:20250306T173721Z
UID:45960-1741284000-1741289400@elpasoholocaustmuseum.org
SUMMARY:All People Have Voice
DESCRIPTION:Join us on Thursday\, March 6th at 6pm for a presentation by Dr. Ezra Cappell!\nDr. Cappell will be joining us in person and will speak on Maus II: A Survivor’s Tale\, with a discussion on the role of memoirs in history and the dangers of antisemitism and racism.\nRegister today and receive a FREE copy of Maus II\, educational resources\, hands-on activities\, and an exclusive EPHM bookmark!
URL:https://elpasoholocaustmuseum.org/event/all-people-have-voice/
END:VEVENT
BEGIN:VEVENT
DTSTART;TZID=America/Denver:20240920T164800
DTEND;TZID=America/Denver:20240920T164800
DTSTAMP:20260419T115310
CREATED:20250127T053639Z
LAST-MODIFIED:20250127T053639Z
UID:45910-1726850880-1726850880@elpasoholocaustmuseum.org
SUMMARY:Dimensions in Testimony
DESCRIPTION:El Paso Holocaust Museum is proud to present its new permanent exhibition: Dimensions in Testimony Dimensions in Testimony\, developed by the USC Shoah Foundation\, is a conversational experience between visitors and a Holocaust survivor or liberator. This groundbreaking exhibit employs advanced filming techniques\, specialized display technologies\, and next-generation natural language processing to create an immersive experience. Each interactive biography enables participants to speak to a survivor or liberator and hear real-time responses ensuring that the voices of Holocaust survivors will continue to educate and inspire future generations. Featuring the testimonies of Holocaust survivors Pinchas Gutter\, Eva Kor; the Spanish testimony of survivor\, Lea Noverra\, and the testimony of U.S. Army veteran and liberator\, Alan Moskin. Schedule for Dimensions in Testimony: October EPHM will feature a different survivor or liberator testimony each week. Tuesday – Friday: 10:00am and 1:00pm; Saturday: 2:00pm and 3:00pm October 8 – 12: Eva Kor October 15 – 19: Pinchas Gutter October 22 – 26: Alan Moskin October 29 – November 2: Edith Maniker If you would like to schedule for a group\, please contact EPHM to make a reservation: 915-351-0048
URL:https://elpasoholocaustmuseum.org/event/dimensions-in-testimony/
END:VEVENT
BEGIN:VEVENT
DTSTART;TZID=America/Denver:20170426T190200
DTEND;TZID=America/Denver:20170426T190200
DTSTAMP:20260419T115310
CREATED:20250127T053525Z
LAST-MODIFIED:20250127T053525Z
UID:45907-1493233320-1493233320@elpasoholocaustmuseum.org
SUMMARY:Creative Activism: DIY Journalism
DESCRIPTION:Saturday- May 6\, 2017\n10:00am – 4:00pm\n  \n“Find Your Voice: Stand Up and Speak Out”… at EPHM’s Creative Activism: DIY Journalism youth day. \nEPHM is calling on all high school students to join us on Saturday – May 6\, 10am – 4pm to express their thoughts and views on current social issues through the creation of a “Zine” (handmade magazine) But first they will learn about creative defiance by teenagers in the Holocaust through the exploration of the special exhibit\, “Vedem: The Underground Magazine of the Terezin Ghetto.” There is no charge and lunch is included. \nJust call 915.351.0048 to sign up! \n“Vedem: The Underground Magazine of the Terezin Ghetto” curated and designed by Rina Taraseiskey\, Michael Murphy\, and Danny King. Exhibition Workshop: DIY Journalism created by Rina Taraseiskey \n 
URL:https://elpasoholocaustmuseum.org/event/creative-activism-diy-journalism/
END:VEVENT
BEGIN:VEVENT
DTSTART;TZID=America/Denver:20160121T020300
DTEND;TZID=America/Denver:20160121T020300
DTSTAMP:20260419T115310
CREATED:20250127T053524Z
LAST-MODIFIED:20250127T053524Z
UID:45905-1453341780-1453341780@elpasoholocaustmuseum.org
SUMMARY:The Red Handkerchief Presented by Author
DESCRIPTION:EPHM is honored to welcome resistance fighter and survivor Maria Spronk Hughes and her daughter Yvonne Ward Hughes on February 11\, 2016 for the presentation of their book\, The Red Handkerchief – a memoir of Maria’s wartime experiences. \nIn 1940\, the Nazis invaded Holland and quickly occupied the country. Restrictions on all citizens were soon enforced\, followed by anti-Semitic laws\, property seizures\, arrests and imprisonment of Jews and those who resisted the occupation. Two of those resistors were the Spronk sisters. At the ages of 19 and 20\, Maria and Catharina would commit acts of sabotage against the Nazi military. Even after arrest\, imprisonment and deportation to a concentration camp\, the two sisters refused to let their spirits be broken. The Red Handkerchief is their story told by Maria Spronk Hughes to her daughter Yvonne Ward-Hughes. EPHM is honored to welcome Maria and Yvonne Hughes to El Paso on February 11\, 2016. Please join us for this rare opportunity to hear from a member of the resistance\, who is also a concentration camp survivor. \nAdditional details coming soon!
URL:https://elpasoholocaustmuseum.org/event/the-red-handkerchief-presented-by-author/
END:VEVENT
BEGIN:VEVENT
DTSTART;TZID=America/Denver:20160120T200300
DTEND;TZID=America/Denver:20160120T200300
DTSTAMP:20260419T115310
CREATED:20250127T053525Z
LAST-MODIFIED:20250127T053525Z
UID:45906-1453320180-1453320180@elpasoholocaustmuseum.org
SUMMARY:news157
DESCRIPTION:
URL:https://elpasoholocaustmuseum.org/event/news157/
END:VEVENT
END:VCALENDAR