BEGIN:VCALENDAR
VERSION:2.0
PRODID:-//El Paso Holocaust Musem - ECPv6.15.20//NONSGML v1.0//EN
CALSCALE:GREGORIAN
METHOD:PUBLISH
X-ORIGINAL-URL:https://elpasoholocaustmuseum.org
X-WR-CALDESC:Events for El Paso Holocaust Musem
REFRESH-INTERVAL;VALUE=DURATION:PT1H
X-Robots-Tag:noindex
X-PUBLISHED-TTL:PT1H
BEGIN:VTIMEZONE
TZID:America/Denver
BEGIN:DAYLIGHT
TZOFFSETFROM:-0700
TZOFFSETTO:-0600
TZNAME:MDT
DTSTART:20250309T090000
END:DAYLIGHT
BEGIN:STANDARD
TZOFFSETFROM:-0600
TZOFFSETTO:-0700
TZNAME:MST
DTSTART:20251102T080000
END:STANDARD
BEGIN:DAYLIGHT
TZOFFSETFROM:-0700
TZOFFSETTO:-0600
TZNAME:MDT
DTSTART:20260308T090000
END:DAYLIGHT
BEGIN:STANDARD
TZOFFSETFROM:-0600
TZOFFSETTO:-0700
TZNAME:MST
DTSTART:20261101T080000
END:STANDARD
BEGIN:DAYLIGHT
TZOFFSETFROM:-0700
TZOFFSETTO:-0600
TZNAME:MDT
DTSTART:20270314T090000
END:DAYLIGHT
BEGIN:STANDARD
TZOFFSETFROM:-0600
TZOFFSETTO:-0700
TZNAME:MST
DTSTART:20271107T080000
END:STANDARD
END:VTIMEZONE
BEGIN:VEVENT
DTSTART;TZID=America/Denver:20260328T100000
DTEND;TZID=America/Denver:20260328T120000
DTSTAMP:20260421T172137
CREATED:20260317T205431Z
LAST-MODIFIED:20260317T205431Z
UID:46438-1774692000-1774699200@elpasoholocaustmuseum.org
SUMMARY:Docent Training at EPHM
DESCRIPTION:Are you passionate about sharing history and connecting with our community? Join us on March 28th for Docent Training at El Paso Holocaust Museum! Our museum docents play a vital role in guiding vistiors and student groups through the galleries while helping to foster understanding\, reflection\, and meaningful dialogue about the Holocaust and its lessons for today. \nRequirements: \n18 years or older \nAbility to commit for one year or more \nAvailablity to assist with morning tours. \nCall for more information! \n915.351.0048 \n \n 
URL:https://elpasoholocaustmuseum.org/event/docent-training-at-ephm/
END:VEVENT
BEGIN:VEVENT
DTSTART;TZID=America/Denver:20260328T140000
DTEND;TZID=America/Denver:20260328T150000
DTSTAMP:20260421T172137
CREATED:20260218T214725Z
LAST-MODIFIED:20260218T214725Z
UID:46398-1774706400-1774710000@elpasoholocaustmuseum.org
SUMMARY:Reading Time with EPHM
DESCRIPTION:Join us every Saturday from 2-3 PM for reading time in our library in celebration of our new exhibit\, Stories We Need In A Time Of Censorship. Volunteers will read one children’s book that has been challenged or censored in hopes to raise awareness on the different communities that have faced hardships.
URL:https://elpasoholocaustmuseum.org/event/reading-time-with-ephm-6/
END:VEVENT
BEGIN:VEVENT
DTSTART;TZID=America/Denver:20260331T090000
DTEND;TZID=America/Denver:20260331T170000
DTSTAMP:20260421T172137
CREATED:20260218T164116Z
LAST-MODIFIED:20260218T171858Z
UID:46379-1774947600-1774976400@elpasoholocaustmuseum.org
SUMMARY:Dimensions in Testimony: Pinchas Gutter
DESCRIPTION:Join us Tuesdays-Fridays & Saturdays for a special showing of our brand new permanent exhibit:  \nDimensions in Testimony  \nVisitors can interact with Holocaust survivor or Holocaust liberator through pre-recorded testimonies. \nShow times will be: \nTuesday-Friday at 10:00 AM & 1:00 PM \nSaturdays at 3:00 PM \nMarch 31st– Pinchas Gutter\, Holocaust Survivor
URL:https://elpasoholocaustmuseum.org/event/dimensions-in-testimony-pinchas-gutter-8/
END:VEVENT
BEGIN:VEVENT
DTSTART;TZID=America/Denver:20260331T100000
DTEND;TZID=America/Denver:20260404T170000
DTSTAMP:20260421T172137
CREATED:20260325T204743Z
LAST-MODIFIED:20260325T204743Z
UID:46450-1774951200-1775322000@elpasoholocaustmuseum.org
SUMMARY:Dimenisons in Testimony: Pinchas Gutter
DESCRIPTION:Join us Tuesdays-Fridays & Saturdays for a special showing of our brand new permanent exhibit: Dimensions in Testimony  \nVisitors can interact with Holocaust survivor or Holocaust liberator through pre-recorded testimonies. \nShow times will be: \nTuesday-Friday at 10:00 AM & 1:00 PM \nSaturdays at 3:00 PM  \nMarch 31st-April 4th: Pinchas Gutter\, Holocaust Survivor \n \n 
URL:https://elpasoholocaustmuseum.org/event/dimenisons-in-testimony-pinchas-gutter-5/
END:VEVENT
BEGIN:VEVENT
DTSTART;VALUE=DATE:20260402
DTEND;VALUE=DATE:20260403
DTSTAMP:20260421T172137
CREATED:20260224T193222Z
LAST-MODIFIED:20260224T193259Z
UID:46400-1775088000-1775174399@elpasoholocaustmuseum.org
SUMMARY:Closed for Passover
DESCRIPTION:EPHM will be closed Thursday\, April 2nd for Passover. We will reopen on Friday\, April 3rd from 9:00 – 5:00 PM. We appreciate your understanding!
URL:https://elpasoholocaustmuseum.org/event/closed-for-passover/
END:VEVENT
BEGIN:VEVENT
DTSTART;TZID=America/Denver:20260404T140000
DTEND;TZID=America/Denver:20260404T150000
DTSTAMP:20260421T172137
CREATED:20260317T175730Z
LAST-MODIFIED:20260317T175730Z
UID:46417-1775311200-1775314800@elpasoholocaustmuseum.org
SUMMARY:Reading Time with EPHM
DESCRIPTION:Join us every Saturday from 2-3 PM for reading time in our library in celebration of our new exhibit\, Stories We Need In A Time Of Censorship. Volunteers will read one children’s book that has been challenged or censored in hopes to raise awareness on the different communities that have faced hardships.
URL:https://elpasoholocaustmuseum.org/event/reading-time-with-ephm-7/
END:VEVENT
BEGIN:VEVENT
DTSTART;TZID=America/Denver:20260407T100000
DTEND;TZID=America/Denver:20260411T170000
DTSTAMP:20260421T172137
CREATED:20260325T205355Z
LAST-MODIFIED:20260325T205355Z
UID:46452-1775556000-1775926800@elpasoholocaustmuseum.org
SUMMARY:Dimensions in Testimony: Dr. Edith Eger
DESCRIPTION:Join us Tuesdays-Fridays & Saturdays for a special showing of our brand new permanent exhibit: Dimensions in Testimony  \nVisitors can interact with Holocaust survivor or Holocaust liberator through pre-recorded testimonies. \nShow times will be: \nTuesday-Friday at 10:00 AM & 1:00 PM \nSaturdays at 2:00 PM \nApril 7th-April 11th: Dr. Edith Eger\, El Paso Holocaust Survivor \n \n 
URL:https://elpasoholocaustmuseum.org/event/dimensions-in-testimony-dr-edith-eger-2/
END:VEVENT
BEGIN:VEVENT
DTSTART;TZID=America/Denver:20260411T140000
DTEND;TZID=America/Denver:20260411T150000
DTSTAMP:20260421T172137
CREATED:20260317T180122Z
LAST-MODIFIED:20260317T180122Z
UID:46419-1775916000-1775919600@elpasoholocaustmuseum.org
SUMMARY:Reading Time with EPHM
DESCRIPTION:Join us every Saturday from 2-3 PM for reading time in our library in celebration of our new exhibit\, Stories We Need In A Time Of Censorship. Volunteers will read one children’s book that has been challenged or censored in hopes to raise awareness on the different communities that have faced hardships.
URL:https://elpasoholocaustmuseum.org/event/reading-time-with-ephm-8/
END:VEVENT
BEGIN:VEVENT
DTSTART;TZID=America/Denver:20260414T100000
DTEND;TZID=America/Denver:20260414T170000
DTSTAMP:20260421T172137
CREATED:20260325T205626Z
LAST-MODIFIED:20260325T205626Z
UID:46459-1776160800-1776186000@elpasoholocaustmuseum.org
SUMMARY:Dimensions in Testimony: Alan Moskin
DESCRIPTION:Join us Tuesday-Friday & Saturdays for a special showing of our brand new permanent exhibit: \nDimensions in Testimony \nVisitors can interact with a Holocaust survivor(s) or a Holocaust liberator through pre-recorded testimonies. \nShowtimes will be: \nTuesday- Friday at 10:00 AM & 1:00 PM \nSaturdays at 3:00 PM \nApril 14th-April 18th
URL:https://elpasoholocaustmuseum.org/event/dimensions-in-testimony-alan-moskin-8/
END:VEVENT
BEGIN:VEVENT
DTSTART;TZID=America/Denver:20260414T180000
DTEND;TZID=America/Denver:20260414T190000
DTSTAMP:20260421T172137
CREATED:20260317T181324Z
LAST-MODIFIED:20260325T204212Z
UID:46426-1776189600-1776193200@elpasoholocaustmuseum.org
SUMMARY:Yom HaShoah 2026
DESCRIPTION:Join El Paso Holocaust Museum on Tuesdaay\, April 14th for a community-wide Yom HaShoah Commemoration. \nUnbroken Notes: An Evening of Holocaust Rmemberance\, Reflection\, and Renewal\, featuring music by Dr. Stephen Nordstrom and Dr. Nayeli Dousa. \nRSVP for additonal details by calling 915.351.0048
URL:https://elpasoholocaustmuseum.org/event/yom-hashoah-2026/
END:VEVENT
BEGIN:VEVENT
DTSTART;TZID=America/Denver:20260418T140000
DTEND;TZID=America/Denver:20260418T150000
DTSTAMP:20260421T172137
CREATED:20260317T180347Z
LAST-MODIFIED:20260317T180347Z
UID:46421-1776520800-1776524400@elpasoholocaustmuseum.org
SUMMARY:Reading Time with EPHM
DESCRIPTION:Join us every Saturday from 2-3 PM for reading time in our library in celebration of our new exhibit\, Stories We Need In A Time Of Censorship. Volunteers will read one children’s book that has been challenged or censored in hopes to raise awareness on the different communities that have faced hardships.
URL:https://elpasoholocaustmuseum.org/event/reading-time-with-ephm-9/
END:VEVENT
BEGIN:VEVENT
DTSTART;TZID=America/Denver:20260421T100000
DTEND;TZID=America/Denver:20260425T170000
DTSTAMP:20260421T172137
CREATED:20260325T210001Z
LAST-MODIFIED:20260325T210342Z
UID:46461-1776765600-1777136400@elpasoholocaustmuseum.org
SUMMARY:Dimensions in Testimony: Lea Novera
DESCRIPTION:Join us Tuesdays-Fridays & Saturdays for a special showing of our brand new permanent exhibit: Dimensions in Testimony \nVisitors can interact with a Holocaust survivor or a Holocaust liberator through pre-recorded testimonies. \nShowtimes will be: Tuesday-Friday at 10:00 AM & 1:00 PM; Saturdays at 3:00 PM  \nApril 21st-April 25th : Lea Novera\, Spanish Testimony\, Auschwitz Survivor
URL:https://elpasoholocaustmuseum.org/event/dimensions-in-testimony-lea-novera-8/
END:VEVENT
BEGIN:VEVENT
DTSTART;TZID=America/Denver:20260425T140000
DTEND;TZID=America/Denver:20260425T150000
DTSTAMP:20260421T172137
CREATED:20260317T180440Z
LAST-MODIFIED:20260317T180440Z
UID:46423-1777125600-1777129200@elpasoholocaustmuseum.org
SUMMARY:Reading Time with EPHM
DESCRIPTION:Join us every Saturday from 2-3 PM for reading time in our library in celebration of our new exhibit\, Stories We Need In A Time Of Censorship. Volunteers will read one children’s book that has been challenged or censored in hopes to raise awareness on the different communities that have faced hardships.
URL:https://elpasoholocaustmuseum.org/event/reading-time-with-ephm-10/
END:VEVENT
BEGIN:VEVENT
DTSTART;TZID=America/Denver:20260426T150000
DTEND;TZID=America/Denver:20260426T180000
DTSTAMP:20260421T172137
CREATED:20260317T203016Z
LAST-MODIFIED:20260317T203016Z
UID:46430-1777215600-1777226400@elpasoholocaustmuseum.org
SUMMARY:7th Annual FORE!Unitee Golf Event
DESCRIPTION:Join us for an afternoon of golf games\, food\, drinks\, and fun competition for family and friends! \nSunday\, April 26th from 3 – 6 PM! \nTopgolf El Paso \nBuy a bay today for just $500 for you and five of your friends\, family members\, or coworkers to enjoy a fun afternoon of friendly competition\, great food\, and festive atmosphere! \nBe on the look out for more info soon! \n\n 
URL:https://elpasoholocaustmuseum.org/event/7th-annual-foreunitee-golf-event/
END:VEVENT
BEGIN:VEVENT
DTSTART;TZID=America/Denver:20260428T100000
DTEND;TZID=America/Denver:20260430T170000
DTSTAMP:20260421T172137
CREATED:20260325T210234Z
LAST-MODIFIED:20260325T210234Z
UID:46463-1777370400-1777568400@elpasoholocaustmuseum.org
SUMMARY:Dimensions in Testimony: Edith Maniker
DESCRIPTION:Join us Tuesdays-Fridays & Saturdays for a special showing of our brand new permanent exhibit: Dimensions in Testimony  \nVisitors can interact with Holocaust survivor or Holocaust liberator through pre-recorded testimonies. \nShow times will be:Tuesday-Friday at 10:00 AM & 1:00 PM; Saturdays at 3:00  \nApril 28th-April 30th: Edith Maniker\, Kindertransport Survivor
URL:https://elpasoholocaustmuseum.org/event/dimensions-in-testimony-edith-maniker-11/
END:VEVENT
BEGIN:VEVENT
DTSTART;TZID=America/Denver:20260501T100000
DTEND;TZID=America/Denver:20260502T170000
DTSTAMP:20260421T172137
CREATED:20260421T181849Z
LAST-MODIFIED:20260421T181849Z
UID:46503-1777629600-1777741200@elpasoholocaustmuseum.org
SUMMARY:Dimensions in Testimony: Edith Maniker
DESCRIPTION:Join us Tuesdays-Fridays & Saturdays for a special showing of our brand new permanent exhibit: Dimensions in Testimony  \nVisitors can interact with Holocaust survivor or Holocaust liberator through pre-recorded testimonies. \nShow times will be:Tuesday-Friday at 10:00 AM & 1:00 PM; Saturdays at 3:00  \nMay 1st & May 2nd: Edith Maniker\, Kindertransport Survivor
URL:https://elpasoholocaustmuseum.org/event/dimensions-in-testimony-edith-maniker-12/
END:VEVENT
BEGIN:VEVENT
DTSTART;TZID=America/Denver:20260502T140000
DTEND;TZID=America/Denver:20260502T150000
DTSTAMP:20260421T172137
CREATED:20260421T175634Z
LAST-MODIFIED:20260421T180129Z
UID:46490-1777730400-1777734000@elpasoholocaustmuseum.org
SUMMARY:Reading time with EPHM
DESCRIPTION:Join us every Saturday from 2-3 PM for reading time in our library in celebration of our new exhibit\, Stories We Need In A Time Of Censorship. Volunteers will read one children’s book that has been challenged or censored in hopes to raise awareness on the different communities that have faced hardships.
URL:https://elpasoholocaustmuseum.org/event/story-time-with-ephm/
END:VEVENT
BEGIN:VEVENT
DTSTART;TZID=America/Denver:20260505T100000
DTEND;TZID=America/Denver:20260509T170000
DTSTAMP:20260421T172137
CREATED:20260421T182436Z
LAST-MODIFIED:20260421T182436Z
UID:46505-1777975200-1778346000@elpasoholocaustmuseum.org
SUMMARY:Dimensions in Testimony: Eva Mozes Kor
DESCRIPTION:Join us Tuesdays-Fridays & Saturdays for a special showing of our brand new permanent exhibit: Dimensions in Testimony  \nVisitors can interact with Holocaust survivor or Holocaust liberator through pre-recorded testimonies. \nShow times will be: \nTuesday-Friday at 10:00 AM & 1:00 PM \nSaturdays at 3:00  \nMay 5th- May 9th : Eva Mozes Kor\, Auschwitz survivor
URL:https://elpasoholocaustmuseum.org/event/dimensions-in-testimony-eva-mozes-kor-9/
END:VEVENT
BEGIN:VEVENT
DTSTART;TZID=America/Denver:20260509T140000
DTEND;TZID=America/Denver:20260509T150000
DTSTAMP:20260421T172137
CREATED:20260421T175804Z
LAST-MODIFIED:20260421T180058Z
UID:46492-1778335200-1778338800@elpasoholocaustmuseum.org
SUMMARY:Reading time with EPHM
DESCRIPTION:Join us every Saturday from 2-3 PM for reading time in our library in celebration of our new exhibit\, Stories We Need In A Time Of Censorship. Volunteers will read one children’s book that has been challenged or censored in hopes to raise awareness on the different communities that have faced hardships.
URL:https://elpasoholocaustmuseum.org/event/storytime-with-ephm/
END:VEVENT
BEGIN:VEVENT
DTSTART;TZID=America/Denver:20260512T100000
DTEND;TZID=America/Denver:20260516T170000
DTSTAMP:20260421T172137
CREATED:20260421T182620Z
LAST-MODIFIED:20260421T182620Z
UID:46507-1778580000-1778950800@elpasoholocaustmuseum.org
SUMMARY:Dimensions in Testimony: Pinchas Gutter
DESCRIPTION:Join us Tuesdays-Fridays & Saturdays for a special showing of our brand new permanent exhibit: Dimensions in Testimony  \nVisitors can interact with Holocaust survivor or Holocaust liberator through pre-recorded testimonies. \nShow times will be: \nTuesday-Friday at 10:00 AM & 1:00 PM \nSaturdays at 3:00 PM  \nMay 12th-May 16th : Pinchas Gutter\, Holocaust Survivor
URL:https://elpasoholocaustmuseum.org/event/dimensions-in-testimony-pinchas-gutter-9/
END:VEVENT
BEGIN:VEVENT
DTSTART;TZID=America/Denver:20260516T140000
DTEND;TZID=America/Denver:20260516T150000
DTSTAMP:20260421T172137
CREATED:20260421T175853Z
LAST-MODIFIED:20260421T180033Z
UID:46494-1778940000-1778943600@elpasoholocaustmuseum.org
SUMMARY:Reading time with EPHM
DESCRIPTION:Join us every Saturday from 2-3 PM for reading time in our library in celebration of our new exhibit\, Stories We Need In A Time Of Censorship. Volunteers will read one children’s book that has been challenged or censored in hopes to raise awareness on the different communities that have faced hardships.
URL:https://elpasoholocaustmuseum.org/event/storytime-with-ephm-2/
END:VEVENT
BEGIN:VEVENT
DTSTART;TZID=America/Denver:20260519T100000
DTEND;TZID=America/Denver:20260523T170000
DTSTAMP:20260421T172137
CREATED:20260421T182733Z
LAST-MODIFIED:20260421T182733Z
UID:46509-1779184800-1779555600@elpasoholocaustmuseum.org
SUMMARY:Dimensions in Testimony: Alan Moskin
DESCRIPTION:Join us Tuesday-Friday & Saturdays for a special showing of our brand new permanent exhibit: \nDimensions in Testimony \nVisitors can interact with a Holocaust survivor(s) or a Holocaust liberator through pre-recorded testimonies. \nShowtimes will be: \nTuesday- Friday at 10:00 AM & 1:00 PM \nSaturdays at 3:00 PM \nMay 19th-May 23rd : Alan Moskin\, Holocaust Liberator
URL:https://elpasoholocaustmuseum.org/event/dimensions-in-testimony-alan-moskin-9/
END:VEVENT
BEGIN:VEVENT
DTSTART;TZID=America/Denver:20260523T140000
DTEND;TZID=America/Denver:20260523T150000
DTSTAMP:20260421T172137
CREATED:20260421T180008Z
LAST-MODIFIED:20260421T180008Z
UID:46496-1779544800-1779548400@elpasoholocaustmuseum.org
SUMMARY:Reading time with EPHM
DESCRIPTION:Join us every Saturday from 2-3 PM for reading time in our library in celebration of our new exhibit\, Stories We Need In A Time Of Censorship. Volunteers will read one children’s book that has been challenged or censored in hopes to raise awareness on the different communities that have faced hardships. \n 
URL:https://elpasoholocaustmuseum.org/event/reading-time-with-ephm-11/
END:VEVENT
BEGIN:VEVENT
DTSTART;TZID=America/Denver:20260526T100000
DTEND;TZID=America/Denver:20260530T170000
DTSTAMP:20260421T172137
CREATED:20260421T182908Z
LAST-MODIFIED:20260421T182908Z
UID:46511-1779789600-1780160400@elpasoholocaustmuseum.org
SUMMARY:Dimensions in Testimony: Dr. Edtih Eger
DESCRIPTION:Join us Tuesdays-Fridays & Saturdays for a special showing of our brand new permanent exhibit: Dimensions in Testimony  \nVisitors can interact with Holocaust survivor or Holocaust liberator through pre-recorded testimonies. \nShow times will be: \nTuesday-Friday at 10:00 AM & 1:00 PM \nSaturdays at 2:00 PM \nMay 26th- May 30th: Dr. Edith Eger\, El Paso Holocaust Survivor
URL:https://elpasoholocaustmuseum.org/event/dimensions-in-testimony-dr-edtih-eger/
END:VEVENT
BEGIN:VEVENT
DTSTART;TZID=America/Denver:20260530T140000
DTEND;TZID=America/Denver:20260530T150000
DTSTAMP:20260421T172137
CREATED:20260421T180221Z
LAST-MODIFIED:20260421T180221Z
UID:46501-1780149600-1780153200@elpasoholocaustmuseum.org
SUMMARY:Reading time with EPHM
DESCRIPTION:Join us every Saturday from 2-3 PM for reading time in our library in celebration of our new exhibit\, Stories We Need In A Time Of Censorship. Volunteers will read one children’s book that has been challenged or censored in hopes to raise awareness on the different communities that have faced hardships. \n 
URL:https://elpasoholocaustmuseum.org/event/reading-time-with-ephm-12/
END:VEVENT
BEGIN:VEVENT
DTSTART;VALUE=DATE:20260619
DTEND;VALUE=DATE:20260620
DTSTAMP:20260421T172137
CREATED:20260409T184141Z
LAST-MODIFIED:20260409T184141Z
UID:46485-1781827200-1781913599@elpasoholocaustmuseum.org
SUMMARY:Closed for Juneteenth
DESCRIPTION:EPHM will be closed Friday\, June 19th for Juneteenth. We will open to regular hours on Saturday\, June 20th from 1:00 – 5:00 PM. Thank you for your understanding!
URL:https://elpasoholocaustmuseum.org/event/closed-for-juneteenth/
END:VEVENT
END:VCALENDAR